BEGIN:VCALENDAR
VERSION:2.0
PRODID:-//JUKE JOINT SMOKERS - ECPv6.1.1//NONSGML v1.0//EN
CALSCALE:GREGORIAN
METHOD:PUBLISH
X-ORIGINAL-URL:https://jukejointsmokers.com
X-WR-CALDESC:Events for JUKE JOINT SMOKERS
REFRESH-INTERVAL;VALUE=DURATION:PT1H
X-Robots-Tag:noindex
X-PUBLISHED-TTL:PT1H
BEGIN:VTIMEZONE
TZID:Europe/Berlin
BEGIN:DAYLIGHT
TZOFFSETFROM:+0100
TZOFFSETTO:+0200
TZNAME:CEST
DTSTART:20220327T010000
END:DAYLIGHT
BEGIN:STANDARD
TZOFFSETFROM:+0200
TZOFFSETTO:+0100
TZNAME:CET
DTSTART:20221030T010000
END:STANDARD
BEGIN:DAYLIGHT
TZOFFSETFROM:+0100
TZOFFSETTO:+0200
TZNAME:CEST
DTSTART:20230326T010000
END:DAYLIGHT
BEGIN:STANDARD
TZOFFSETFROM:+0200
TZOFFSETTO:+0100
TZNAME:CET
DTSTART:20231029T010000
END:STANDARD
BEGIN:DAYLIGHT
TZOFFSETFROM:+0100
TZOFFSETTO:+0200
TZNAME:CEST
DTSTART:20240331T010000
END:DAYLIGHT
BEGIN:STANDARD
TZOFFSETFROM:+0200
TZOFFSETTO:+0100
TZNAME:CET
DTSTART:20241027T010000
END:STANDARD
BEGIN:DAYLIGHT
TZOFFSETFROM:+0100
TZOFFSETTO:+0200
TZNAME:CEST
DTSTART:20250330T010000
END:DAYLIGHT
BEGIN:STANDARD
TZOFFSETFROM:+0200
TZOFFSETTO:+0100
TZNAME:CET
DTSTART:20251026T010000
END:STANDARD
END:VTIMEZONE
BEGIN:VEVENT
DTSTART;TZID=Europe/Berlin:20251011T080000
DTEND;TZID=Europe/Berlin:20251011T170000
DTSTAMP:20260425T175407
CREATED:20250806T121635Z
LAST-MODIFIED:20250806T121635Z
UID:734-1760169600-1760202000@jukejointsmokers.com
SUMMARY:Kultur Verein Großbeeren Bluesnacht
DESCRIPTION:Juke Joint Smokers & Friends
URL:https://jukejointsmokers.com/gigs/kultur-verein-grosbeeren-bluesnacht/
LOCATION:Kultur Verein Großbeeren\, Mühlenstr 9\, Großbeeren\, 14979\, Germany
END:VEVENT
BEGIN:VEVENT
DTSTART;TZID=Europe/Berlin:20251009T203000
DTEND;TZID=Europe/Berlin:20251009T220000
DTSTAMP:20260425T175407
CREATED:20250806T121005Z
LAST-MODIFIED:20250806T121005Z
UID:731-1760041800-1760047200@jukejointsmokers.com
SUMMARY:BALI KINO
DESCRIPTION:Feat. Oliver Kostrynsky – Vocal\, Guitar \nRyan Donohue – Double Bass
URL:https://jukejointsmokers.com/gigs/bali-kino/
LOCATION:Bali Kino\, Teltower Damm 36\, Berlin\, 14169\, Germany
END:VEVENT
BEGIN:VEVENT
DTSTART;TZID=Europe/Berlin:20250817T150000
DTEND;TZID=Europe/Berlin:20250817T200000
DTSTAMP:20260425T175407
CREATED:20250806T120416Z
LAST-MODIFIED:20250806T120416Z
UID:728-1755442800-1755460800@jukejointsmokers.com
SUMMARY:MISSISSIPPI BLUES & BARBECUE
DESCRIPTION:
URL:https://jukejointsmokers.com/gigs/mississippi-blues-barbecue/
LOCATION:Soda Beach Garden\, Schönhauser Alle 36\, Berlin\, 10435\, Germany
END:VEVENT
BEGIN:VEVENT
DTSTART;TZID=Europe/Berlin:20250613T190000
DTEND;TZID=Europe/Berlin:20250613T220000
DTSTAMP:20260425T175407
CREATED:20250612T184858Z
LAST-MODIFIED:20250612T184948Z
UID:723-1749841200-1749852000@jukejointsmokers.com
SUMMARY:DAILYS JUICE BAR & KITCHEN
DESCRIPTION:
URL:https://jukejointsmokers.com/gigs/dailys-juice-bar-kitchen/
LOCATION:Dailys Juice Bar\, LUDWIGSTRAßE 5\, Fürstenfeldbruck\, 82256\, Germany
END:VEVENT
BEGIN:VEVENT
DTSTART;TZID=Europe/Berlin:20250516T190000
DTEND;TZID=Europe/Berlin:20250516T210000
DTSTAMP:20260425T175407
CREATED:20250417T120311Z
LAST-MODIFIED:20250417T120311Z
UID:719-1747422000-1747429200@jukejointsmokers.com
SUMMARY:KLOSTERSCHEUNE ZEHDENICK
DESCRIPTION:
URL:https://jukejointsmokers.com/gigs/klosterscheune-zehdenick/
LOCATION:Klosterscheune Zehdenick\, Domänenweg 1\, Zehdenick\, 16792\, Germany
END:VEVENT
BEGIN:VEVENT
DTSTART;TZID=Europe/Berlin:20250108T200000
DTEND;TZID=Europe/Berlin:20250108T230000
DTSTAMP:20260425T175407
CREATED:20241124T145111Z
LAST-MODIFIED:20241124T145111Z
UID:706-1736366400-1736377200@jukejointsmokers.com
SUMMARY:YORCKSCHLÖSSCHEN
DESCRIPTION:
URL:https://jukejointsmokers.com/gigs/yorckschlosschen-2/
LOCATION:Yorckschlösschen\, Yorckstr 15\, Berlin\, 10965\, Germany
END:VEVENT
BEGIN:VEVENT
DTSTART;TZID=Europe/Berlin:20241214T200000
DTEND;TZID=Europe/Berlin:20241214T220000
DTSTAMP:20260425T175407
CREATED:20240922T085159Z
LAST-MODIFIED:20240922T085159Z
UID:698-1734206400-1734213600@jukejointsmokers.com
SUMMARY:RHEINPHALZ SCHWABING
DESCRIPTION:
URL:https://jukejointsmokers.com/gigs/rheinphalz-schwabing/
LOCATION:Rheinpfalz Schwabing\, Kurfürstenstraße 35\, München\, 80801\, Germany
END:VEVENT
BEGIN:VEVENT
DTSTART;TZID=Europe/Berlin:20241212T200000
DTEND;TZID=Europe/Berlin:20241212T220000
DTSTAMP:20260425T175407
CREATED:20240922T085543Z
LAST-MODIFIED:20240922T085543Z
UID:700-1734033600-1734040800@jukejointsmokers.com
SUMMARY:GASTHOF ANGEL
DESCRIPTION:
URL:https://jukejointsmokers.com/gigs/gasthof-angel/
LOCATION:Gasthof Angel\, Kappeler str 1\, Pfronten\, 87459\, Germany
END:VEVENT
BEGIN:VEVENT
DTSTART;TZID=Europe/Berlin:20241026T200000
DTEND;TZID=Europe/Berlin:20241026T220000
DTSTAMP:20260425T175407
CREATED:20240304T113507Z
LAST-MODIFIED:20240304T113507Z
UID:686-1729972800-1729980000@jukejointsmokers.com
SUMMARY:BLUE NOTE DRESDEN
DESCRIPTION:Feat.\nRyan Donohue – Double Bass\nAlessandro Quida – Drums
URL:https://jukejointsmokers.com/gigs/blue-note-dresden/
LOCATION:Bluesnote Dresden\, Görlitzer str 2b\, Dresden\, 01099\, Germany
END:VEVENT
BEGIN:VEVENT
DTSTART;TZID=Europe/Berlin:20241025T200000
DTEND;TZID=Europe/Berlin:20241025T220000
DTSTAMP:20260425T175407
CREATED:20240304T114449Z
LAST-MODIFIED:20240304T114449Z
UID:688-1729886400-1729893600@jukejointsmokers.com
SUMMARY:BLUES CLUB TROISTEDT
DESCRIPTION:Feat.\nRyan Donohue – Double Bass\nAlessandro Quida – Drums
URL:https://jukejointsmokers.com/gigs/blues-club-troistedt-2/
LOCATION:Blues Club Troistedt\, Hinter dem Arschengarten 21\, Troistedt\, 99428\, Germany
END:VEVENT
BEGIN:VEVENT
DTSTART;TZID=Europe/Berlin:20241024T200000
DTEND;TZID=Europe/Berlin:20241024T220000
DTSTAMP:20260425T175407
CREATED:20240304T112745Z
LAST-MODIFIED:20240304T112745Z
UID:683-1729800000-1729807200@jukejointsmokers.com
SUMMARY:ZUM WILDEN HEINZ
DESCRIPTION:Feat. Ryan Donohue – Double Bass
URL:https://jukejointsmokers.com/gigs/zum-wilden-heinz/
LOCATION:Zum Wilden Heinz\, Hähnelstraße 22\, Leipzig\, 04177\, Germany
END:VEVENT
BEGIN:VEVENT
DTSTART;TZID=Europe/Berlin:20240713T200000
DTEND;TZID=Europe/Berlin:20240713T230000
DTSTAMP:20260425T175407
CREATED:20240203T173158Z
LAST-MODIFIED:20240605T095029Z
UID:671-1720900800-1720911600@jukejointsmokers.com
SUMMARY:YORCKSCHLÖSSCHEN
DESCRIPTION:Feat – Alessandro Quida – Drums
URL:https://jukejointsmokers.com/gigs/yorckschlosschen/
LOCATION:Yorckschlösschen\, Yorckstr 15\, Berlin\, 10965\, Germany
END:VEVENT
BEGIN:VEVENT
DTSTART;TZID=Europe/Berlin:20240627T180000
DTEND;TZID=Europe/Berlin:20240627T200000
DTSTAMP:20260425T175407
CREATED:20240203T173507Z
LAST-MODIFIED:20240605T100636Z
UID:674-1719511200-1719518400@jukejointsmokers.com
SUMMARY:JEINSER BLUES FESTIVAL
DESCRIPTION:Feat. Äck McRoff – Double Bass\, Carlo Corso – Drums
URL:https://jukejointsmokers.com/gigs/jeinser-blues-festival-3/
END:VEVENT
BEGIN:VEVENT
DTSTART;TZID=Europe/Berlin:20240624T200000
DTEND;TZID=Europe/Berlin:20240624T220000
DTSTAMP:20260425T175407
CREATED:20240605T094056Z
LAST-MODIFIED:20240605T094056Z
UID:690-1719259200-1719266400@jukejointsmokers.com
SUMMARY:PIEPMATZ
DESCRIPTION:Feat. Boris Winkelmann – Drums
URL:https://jukejointsmokers.com/gigs/piepmatz/
LOCATION:Piepmatz\, Zwingerstraße 1\, Kempten\, 87435\, Germany
END:VEVENT
BEGIN:VEVENT
DTSTART;TZID=Europe/Berlin:20240623T170000
DTEND;TZID=Europe/Berlin:20240623T190000
DTSTAMP:20260425T175407
CREATED:20240203T131257Z
LAST-MODIFIED:20240605T094742Z
UID:669-1719162000-1719169200@jukejointsmokers.com
SUMMARY:MINIGOLF NESSELWANG
DESCRIPTION:
URL:https://jukejointsmokers.com/gigs/minigolf-nesselwang-2/
LOCATION:Minigolf Nesselwang\, Badeseeweg\, Nesselwang\, 87474
END:VEVENT
BEGIN:VEVENT
DTSTART;TZID=Europe/Berlin:20240622T200000
DTEND;TZID=Europe/Berlin:20240622T220000
DTSTAMP:20260425T175407
CREATED:20240203T131028Z
LAST-MODIFIED:20240203T131028Z
UID:667-1719086400-1719093600@jukejointsmokers.com
SUMMARY:SCHROTTGALERIE
DESCRIPTION:
URL:https://jukejointsmokers.com/gigs/schrottgalerie-2/
LOCATION:Schrottgalerie\, St.-Johannes-Straße 2\, Glonn\, 85625\, Germany
END:VEVENT
BEGIN:VEVENT
DTSTART;TZID=Europe/Berlin:20240621T200000
DTEND;TZID=Europe/Berlin:20240621T220000
DTSTAMP:20260425T175407
CREATED:20240203T130717Z
LAST-MODIFIED:20240203T131500Z
UID:665-1719000000-1719007200@jukejointsmokers.com
SUMMARY:KULTCAFE GILCHING
DESCRIPTION:
URL:https://jukejointsmokers.com/gigs/kultcafe-gilching/
LOCATION:Kultcafe\, Am Bahnhof 3\, Gilching\, 82205\, Germany
END:VEVENT
BEGIN:VEVENT
DTSTART;TZID=Europe/Berlin:20240413T200000
DTEND;TZID=Europe/Berlin:20240413T220000
DTSTAMP:20260425T175407
CREATED:20240206T124133Z
LAST-MODIFIED:20240206T124133Z
UID:676-1713038400-1713045600@jukejointsmokers.com
SUMMARY:BLUE LIZARD
DESCRIPTION:
URL:https://jukejointsmokers.com/gigs/blue-lizard/
LOCATION:Blue Lizard\, Funkenhagen 12\, Boitzenburger Land\, 17268\, Germany
END:VEVENT
BEGIN:VEVENT
DTSTART;TZID=Europe/Berlin:20240208T200000
DTEND;TZID=Europe/Berlin:20240208T220000
DTSTAMP:20260425T175407
CREATED:20240207T185017Z
LAST-MODIFIED:20240207T185017Z
UID:680-1707422400-1707429600@jukejointsmokers.com
SUMMARY:LA MINGA
DESCRIPTION:
URL:https://jukejointsmokers.com/gigs/la-minga/
LOCATION:La Minga\, Stargarder Str. 33\, Berlin\, 10437\, Germany
END:VEVENT
BEGIN:VEVENT
DTSTART;TZID=Europe/Berlin:20230902T200000
DTEND;TZID=Europe/Berlin:20230902T220000
DTSTAMP:20260425T175407
CREATED:20230901T190059Z
LAST-MODIFIED:20230901T190059Z
UID:640-1693684800-1693692000@jukejointsmokers.com
SUMMARY:BLUES CLUB TROISTEDT
DESCRIPTION:Feat. Washbone Michel – Washboard\, Bones
URL:https://jukejointsmokers.com/gigs/blues-club-troistedt/
LOCATION:Blues Club Troistedt\, Hinter dem Arschengarten 21\, Troistedt\, 99428\, Germany
END:VEVENT
BEGIN:VEVENT
DTSTART;TZID=Europe/Berlin:20230730T170000
DTEND;TZID=Europe/Berlin:20230730T193000
DTSTAMP:20260425T175407
CREATED:20230615T091005Z
LAST-MODIFIED:20230723T064446Z
UID:480-1690736400-1690745400@jukejointsmokers.com
SUMMARY:MINIGOLF NESSELWANG
DESCRIPTION:Feat. Ryan Donohue – Bass
URL:https://jukejointsmokers.com/gigs/minigolf-nesselwang/
LOCATION:Minigolf Nesselwang\, Badeseeweg\, Nesselwang\, 87474
END:VEVENT
BEGIN:VEVENT
DTSTART;TZID=Europe/Berlin:20230728T203000
DTEND;TZID=Europe/Berlin:20230728T220000
DTSTAMP:20260425T175407
CREATED:20230615T090442Z
LAST-MODIFIED:20230615T090442Z
UID:477-1690576200-1690581600@jukejointsmokers.com
SUMMARY:KULTCAFE
DESCRIPTION:
URL:https://jukejointsmokers.com/gigs/kultcafe/
LOCATION:Kultcafe\, Am Bahnhof 3\, Gilching\, 82205\, Germany
END:VEVENT
BEGIN:VEVENT
DTSTART;TZID=Europe/Berlin:20230624T180000
DTEND;TZID=Europe/Berlin:20230624T230000
DTSTAMP:20260425T175407
CREATED:20230615T083549Z
LAST-MODIFIED:20230615T083549Z
UID:475-1687629600-1687647600@jukejointsmokers.com
SUMMARY:JEINSER BLUES FESTIVAL
DESCRIPTION:
URL:https://jukejointsmokers.com/gigs/jeinser-blues-festival-2/
LOCATION:Jeinser Blues Fesival\, Vardegötzer str\, Jeinsen\, 30982\, Germany
END:VEVENT
BEGIN:VEVENT
DTSTART;TZID=Europe/Berlin:20230623T180000
DTEND;TZID=Europe/Berlin:20230623T230000
DTSTAMP:20260425T175407
CREATED:20230615T083332Z
LAST-MODIFIED:20230615T083454Z
UID:472-1687543200-1687561200@jukejointsmokers.com
SUMMARY:JEINSER BLUES FESTIVAL
DESCRIPTION:
URL:https://jukejointsmokers.com/gigs/jeinser-blues-festival/
LOCATION:Jeinser Blues Fesival\, Vardegötzer str\, Jeinsen\, 30982\, Germany
END:VEVENT
BEGIN:VEVENT
DTSTART;TZID=Europe/Berlin:20230617T190000
DTEND;TZID=Europe/Berlin:20230617T200000
DTSTAMP:20260425T175407
CREATED:20230615T081832Z
LAST-MODIFIED:20230618T135659Z
UID:468-1687028400-1687032000@jukejointsmokers.com
SUMMARY:HAVELROCK OPEN AIR
DESCRIPTION:Feat. Mark Roman Wickham – Bass\, \nAlessandro Quida – Drums
URL:https://jukejointsmokers.com/gigs/havelrock-open-air/
LOCATION:Havelrock Open Air\, Blankenförde 30\, Blankenförde\, 17252\, Germany
END:VEVENT
BEGIN:VEVENT
DTSTART;TZID=Europe/Berlin:20230616T200000
DTEND;TZID=Europe/Berlin:20230616T230000
DTSTAMP:20260425T175407
CREATED:20230616T114606Z
LAST-MODIFIED:20230616T114606Z
UID:561-1686945600-1686956400@jukejointsmokers.com
SUMMARY:SPEICHES
DESCRIPTION:
URL:https://jukejointsmokers.com/gigs/speiches/
LOCATION:Speiches\, Raumesrtr 39\, Berlin\, 10437\, Germany
END:VEVENT
BEGIN:VEVENT
DTSTART;TZID=Europe/Berlin:20230226T170000
DTEND;TZID=Europe/Berlin:20230226T190000
DTSTAMP:20260425T175407
CREATED:20230615T114126Z
LAST-MODIFIED:20230615T114126Z
UID:524-1677430800-1677438000@jukejointsmokers.com
SUMMARY:BLUES-KAFFE JENA
DESCRIPTION:
URL:https://jukejointsmokers.com/gigs/blues-kaffe-jena/
LOCATION:Blues Cafe jena\, Vor dem Neutor 5\, Jena\, 07743\, Germany
END:VEVENT
BEGIN:VEVENT
DTSTART;TZID=Europe/Berlin:20230225T200000
DTEND;TZID=Europe/Berlin:20230225T220000
DTSTAMP:20260425T175407
CREATED:20230615T112833Z
LAST-MODIFIED:20230615T112833Z
UID:521-1677355200-1677362400@jukejointsmokers.com
SUMMARY:SCHROTTGALERIE
DESCRIPTION:Feat. Ryan Donohue – Bass
URL:https://jukejointsmokers.com/gigs/schrottgalerie/
LOCATION:Schrottgalerie\, St.-Johannes-Straße 2\, Glonn\, 85625\, Germany
END:VEVENT
BEGIN:VEVENT
DTSTART;TZID=Europe/Berlin:20230218T220000
DTEND;TZID=Europe/Berlin:20230218T230000
DTSTAMP:20260425T175407
CREATED:20230615T112005Z
LAST-MODIFIED:20230615T112005Z
UID:516-1676757600-1676761200@jukejointsmokers.com
SUMMARY:BLUESFASCHING APOLDA
DESCRIPTION:
URL:https://jukejointsmokers.com/gigs/bluesfasching-apolda/
LOCATION:Bluesfasching Apolda\, Brandestr 1\, Apolda\, 99510\, Germany
END:VEVENT
BEGIN:VEVENT
DTSTART;TZID=Europe/Berlin:20221217T203000
DTEND;TZID=Europe/Berlin:20221217T220000
DTSTAMP:20260425T175407
CREATED:20230615T110156Z
LAST-MODIFIED:20230615T110156Z
UID:509-1671309000-1671314400@jukejointsmokers.com
SUMMARY:HAUS RODE
DESCRIPTION:
URL:https://jukejointsmokers.com/gigs/haus-rode/
LOCATION:Haus Rode\, Könzgenstr 14\, Dortmund\, 44287\, Germany
END:VEVENT
END:VCALENDAR